BEGIN:VCALENDAR
VERSION:2.0
PRODID:-//Eintritt.Frei Kalender - ECPv6.15.20//NONSGML v1.0//EN
CALSCALE:GREGORIAN
METHOD:PUBLISH
X-ORIGINAL-URL:https://www.eintrittfrei-muenchen.de
X-WR-CALDESC:Veranstaltungen für Eintritt.Frei Kalender
REFRESH-INTERVAL;VALUE=DURATION:PT1H
X-Robots-Tag:noindex
X-PUBLISHED-TTL:PT1H
BEGIN:VTIMEZONE
TZID:Europe/Berlin
BEGIN:DAYLIGHT
TZOFFSETFROM:+0100
TZOFFSETTO:+0200
TZNAME:CEST
DTSTART:20250330T010000
END:DAYLIGHT
BEGIN:STANDARD
TZOFFSETFROM:+0200
TZOFFSETTO:+0100
TZNAME:CET
DTSTART:20251026T010000
END:STANDARD
BEGIN:DAYLIGHT
TZOFFSETFROM:+0100
TZOFFSETTO:+0200
TZNAME:CEST
DTSTART:20260329T010000
END:DAYLIGHT
BEGIN:STANDARD
TZOFFSETFROM:+0200
TZOFFSETTO:+0100
TZNAME:CET
DTSTART:20261025T010000
END:STANDARD
BEGIN:DAYLIGHT
TZOFFSETFROM:+0100
TZOFFSETTO:+0200
TZNAME:CEST
DTSTART:20270328T010000
END:DAYLIGHT
BEGIN:STANDARD
TZOFFSETFROM:+0200
TZOFFSETTO:+0100
TZNAME:CET
DTSTART:20271031T010000
END:STANDARD
END:VTIMEZONE
BEGIN:VEVENT
DTSTART;TZID=Europe/Berlin:20260509T170000
DTEND;TZID=Europe/Berlin:20260509T200000
DTSTAMP:20260424T070157
CREATED:20260410T111125Z
LAST-MODIFIED:20260410T111125Z
UID:10077900-1778346000-1778356800@www.eintrittfrei-muenchen.de
SUMMARY:Vernissage AMELI
DESCRIPTION:Die Ausstellung versammelt Arbeiten\, die Malerei als Prozess von Wahrnehmung\, Transformation und Freiheit verstehen. \nNatur erscheint in diesen Bildern als Spiegel innerer Zustände. Farbe nimmt eine zentrale Rolle ein: Sie ist Ausdruck von Emotion und zugleich deren Transformation. Schönheit wird nicht als Perfektion begriffen\, sondern als Qualität des Unvollkommenen – als fragile Balance zwischen Dunkelheit und Licht. \nDie Arbeiten verweisen auf grundlegende Prozesse menschlicher Existenz: auf Entstehen und Vergehen\, Wachstum und Veränderung – getragen von der Hoffnung auf Heilung. In diesem Spannungsfeld entfaltet sich eine Malerei\, die Wandel und Transformation nicht nur thematisiert\, sondern selbst vollzieht. Melancholie kann sich in Hoffnung verwandeln\, Einsamkeit in einen Raum der Stille. \nIn der Entwicklung der Werkreihe zeigt sich eine Bewegung vom Körperlichen hin zu einer zunehmend offenen\, fragilen Bildsprache. Formen lösen sich auf\, Konturen werden durchlässig\, Strukturen bleiben bewusst unvollständig. \nSo entstehen Bilder\, die keine eindeutigen Antworten geben. Sie sind weniger als abgeschlossene Aussagen gedacht denn als offene Resonanzräume. Sie laden Betrachtende dazu ein\, eigene Empfindungen\, Erinnerungen und innere Landschaften wiederzufinden – und im Akt des Betrachtens vielleicht einen Moment von Präsenz\, Stille\, Erkenntnis oder Transformation zu erfahren. \n/ \n@bilderakte.de
URL:https://www.eintrittfrei-muenchen.de/veranstaltung/vernissage-ameli/
LOCATION:Orangerie im Englischen Garten\, Englischer Garten 1 a\, München\, 81925\, Deutschland
CATEGORIES:Ausstellungseröffnung,Kunst
GEO:48.15093;11.59391
X-APPLE-STRUCTURED-LOCATION;VALUE=URI;X-ADDRESS=Orangerie im Englischen Garten Englischer Garten 1 a München 81925 Deutschland;X-APPLE-RADIUS=500;X-TITLE=Englischer Garten 1 a:geo:11.59391,48.15093
END:VEVENT
END:VCALENDAR