BEGIN:VCALENDAR
VERSION:2.0
PRODID:-//Eintritt.Frei Kalender - ECPv6.15.20//NONSGML v1.0//EN
CALSCALE:GREGORIAN
METHOD:PUBLISH
X-WR-CALNAME:Eintritt.Frei Kalender
X-ORIGINAL-URL:https://www.eintrittfrei-muenchen.de
X-WR-CALDESC:Veranstaltungen für Eintritt.Frei Kalender
REFRESH-INTERVAL;VALUE=DURATION:PT1H
X-Robots-Tag:noindex
X-PUBLISHED-TTL:PT1H
BEGIN:VTIMEZONE
TZID:Europe/Berlin
BEGIN:DAYLIGHT
TZOFFSETFROM:+0100
TZOFFSETTO:+0200
TZNAME:CEST
DTSTART:20250330T010000
END:DAYLIGHT
BEGIN:STANDARD
TZOFFSETFROM:+0200
TZOFFSETTO:+0100
TZNAME:CET
DTSTART:20251026T010000
END:STANDARD
BEGIN:DAYLIGHT
TZOFFSETFROM:+0100
TZOFFSETTO:+0200
TZNAME:CEST
DTSTART:20260329T010000
END:DAYLIGHT
BEGIN:STANDARD
TZOFFSETFROM:+0200
TZOFFSETTO:+0100
TZNAME:CET
DTSTART:20261025T010000
END:STANDARD
BEGIN:DAYLIGHT
TZOFFSETFROM:+0100
TZOFFSETTO:+0200
TZNAME:CEST
DTSTART:20270328T010000
END:DAYLIGHT
BEGIN:STANDARD
TZOFFSETFROM:+0200
TZOFFSETTO:+0100
TZNAME:CET
DTSTART:20271031T010000
END:STANDARD
END:VTIMEZONE
BEGIN:VEVENT
DTSTART;TZID=Europe/Berlin:20260303T190000
DTEND;TZID=Europe/Berlin:20260303T190000
DTSTAMP:20260419T183844
CREATED:20260225T130828Z
LAST-MODIFIED:20260225T132713Z
UID:10077742-1772564400-1772564400@www.eintrittfrei-muenchen.de
SUMMARY:Foreign bodies
DESCRIPTION:“Foreign bodies” ist ursprünglich ein medizinischer Begriff und bezeichnet Objekte\, die sich im Körper befinden\, dort aber nicht hingehören. Aus interdisziplinärer Perspektive beschreibt der Begriff auch Außenseiter in einem sozialen Gefüge…Die Gruppenausstellung widmet sich den unterschiedlichen Dimensionen von “foreign bodies” und lädt die Künstlerinnen ein\, den Begriff in ihren eigenen künstlerischen Praktiken\, kulturellen Hintergründen und Erfahrungen des Lebens im Ausland neu zu verorten. Ausstellung 04. – 22.03.2026
URL:https://www.eintrittfrei-muenchen.de/veranstaltung/foreign-bodies-2/
LOCATION:Kunstpavillon\, Sophienstr. 7a\, München\, 80333\, Deutschland
CATEGORIES:Ausstellungseröffnung
GEO:48.14179;11.56561
X-APPLE-STRUCTURED-LOCATION;VALUE=URI;X-ADDRESS=Kunstpavillon Sophienstr. 7a München 80333 Deutschland;X-APPLE-RADIUS=500;X-TITLE=Sophienstr. 7a:geo:11.56561,48.14179
END:VEVENT
END:VCALENDAR