BEGIN:VCALENDAR
VERSION:2.0
PRODID:-//Eintritt.Frei Kalender - ECPv6.15.20//NONSGML v1.0//EN
CALSCALE:GREGORIAN
METHOD:PUBLISH
X-ORIGINAL-URL:https://www.eintrittfrei-muenchen.de
X-WR-CALDESC:Veranstaltungen für Eintritt.Frei Kalender
REFRESH-INTERVAL;VALUE=DURATION:PT1H
X-Robots-Tag:noindex
X-PUBLISHED-TTL:PT1H
BEGIN:VTIMEZONE
TZID:Europe/Berlin
BEGIN:DAYLIGHT
TZOFFSETFROM:+0100
TZOFFSETTO:+0200
TZNAME:CEST
DTSTART:20250330T010000
END:DAYLIGHT
BEGIN:STANDARD
TZOFFSETFROM:+0200
TZOFFSETTO:+0100
TZNAME:CET
DTSTART:20251026T010000
END:STANDARD
BEGIN:DAYLIGHT
TZOFFSETFROM:+0100
TZOFFSETTO:+0200
TZNAME:CEST
DTSTART:20260329T010000
END:DAYLIGHT
BEGIN:STANDARD
TZOFFSETFROM:+0200
TZOFFSETTO:+0100
TZNAME:CET
DTSTART:20261025T010000
END:STANDARD
BEGIN:DAYLIGHT
TZOFFSETFROM:+0100
TZOFFSETTO:+0200
TZNAME:CEST
DTSTART:20270328T010000
END:DAYLIGHT
BEGIN:STANDARD
TZOFFSETFROM:+0200
TZOFFSETTO:+0100
TZNAME:CET
DTSTART:20271031T010000
END:STANDARD
END:VTIMEZONE
BEGIN:VEVENT
DTSTART;TZID=Europe/Berlin:20260506T190000
DTEND;TZID=Europe/Berlin:20260506T210000
DTSTAMP:20260423T183115
CREATED:20260422T085623Z
LAST-MODIFIED:20260422T085623Z
UID:10078087-1778094000-1778101200@www.eintrittfrei-muenchen.de
SUMMARY:Vernissage: "München malt - Explosion der Farben"
DESCRIPTION:Jedes Jahr in der ersten Osterferienwoche wird das Kulturzentrum Guardini90 zum offenen Atelier. Mehr als 500 Künstler*innen aller Generationen malen eine Woche lang gemeinsam. In dieser Ausstellung wird eine Auswahl der entstandenen Werke präsentiert.
URL:https://www.eintrittfrei-muenchen.de/veranstaltung/vernissage-muenchen-malt-explosion-der-farben/
LOCATION:Guardini90
CATEGORIES:Ausstellungseröffnung
END:VEVENT
END:VCALENDAR