BEGIN:VCALENDAR
VERSION:2.0
PRODID:-//Eintritt.Frei Kalender - ECPv6.15.20//NONSGML v1.0//EN
CALSCALE:GREGORIAN
METHOD:PUBLISH
X-WR-CALNAME:Eintritt.Frei Kalender
X-ORIGINAL-URL:https://www.eintrittfrei-muenchen.de
X-WR-CALDESC:Veranstaltungen für Eintritt.Frei Kalender
REFRESH-INTERVAL;VALUE=DURATION:PT1H
X-Robots-Tag:noindex
X-PUBLISHED-TTL:PT1H
BEGIN:VTIMEZONE
TZID:Europe/Berlin
BEGIN:DAYLIGHT
TZOFFSETFROM:+0100
TZOFFSETTO:+0200
TZNAME:CEST
DTSTART:20250330T010000
END:DAYLIGHT
BEGIN:STANDARD
TZOFFSETFROM:+0200
TZOFFSETTO:+0100
TZNAME:CET
DTSTART:20251026T010000
END:STANDARD
BEGIN:DAYLIGHT
TZOFFSETFROM:+0100
TZOFFSETTO:+0200
TZNAME:CEST
DTSTART:20260329T010000
END:DAYLIGHT
BEGIN:STANDARD
TZOFFSETFROM:+0200
TZOFFSETTO:+0100
TZNAME:CET
DTSTART:20261025T010000
END:STANDARD
BEGIN:DAYLIGHT
TZOFFSETFROM:+0100
TZOFFSETTO:+0200
TZNAME:CEST
DTSTART:20270328T010000
END:DAYLIGHT
BEGIN:STANDARD
TZOFFSETFROM:+0200
TZOFFSETTO:+0100
TZNAME:CET
DTSTART:20271031T010000
END:STANDARD
END:VTIMEZONE
BEGIN:VEVENT
DTSTART;TZID=Europe/Berlin:20260303T193000
DTEND;TZID=Europe/Berlin:20260303T193000
DTSTAMP:20260419T163020
CREATED:20260220T115600Z
LAST-MODIFIED:20260220T115600Z
UID:10077693-1772566200-1772566200@www.eintrittfrei-muenchen.de
SUMMARY:AD PARNASSUM KONZERT
DESCRIPTION:Von gewohnt bis ungewohnt\, heiter\, flott\, schroff oder sperrig: Karina Erhard\, Jürgen Schneider und Stefan Stefinsky interpretieren Kompositionen\, die den Hörhorizont erweitern. Als Komponist seines Werkzyklus’ »AD PARNASSUM« sieht Stefan Stefinsky den Reiz im Spannungsfeld zwischen der Intervallstruktur als konstruktives Element für Melodie und der Harmonie als Wesen des Zusammenklangs. Daraus schöpft er musikalische Ideen und erobert neue Klangräume. »Bei dieser Eroberung steht der Berg für mich als Synonym für die Herausforderung\, die er für seinen ›Bezwinger‹ darstellt. Bergnamen wie Porze\, Brocken\, Scheinberg oder Keeseck vermitteln bildhaft deren jeweiligen Charakter. Der Berg inspiriert mich zu melodiösem Ausdruck und erweitert die Stücke durch seine poetische Dimension\, gleich dem Musenberg Parnass.« \nMit: Karina Erhard (Flöte)\, Jürgen Schneider (Percussion\, Vibraphon)\, Stefan Stefinsky (Saxophone) \nSpenden für die Künstler*innen erwünscht \n 
URL:https://www.eintrittfrei-muenchen.de/veranstaltung/ad-parnassum-konzert/
LOCATION:arToxin Galerie\, Kirchenstr. 23\, München
ATTACH;FMTTYPE=image/jpeg:https://www.eintrittfrei-muenchen.de/wp-content/uploads/2026/02/Trio_AdParnassum_BannerC_cFotoTomGarrecht_2023_6999-1536x1071-1-e1771588553341.jpg
END:VEVENT
END:VCALENDAR