BEGIN:VCALENDAR
VERSION:2.0
PRODID:-//Eintritt.Frei Kalender - ECPv6.15.20//NONSGML v1.0//EN
CALSCALE:GREGORIAN
METHOD:PUBLISH
X-ORIGINAL-URL:https://www.eintrittfrei-muenchen.de
X-WR-CALDESC:Veranstaltungen für Eintritt.Frei Kalender
REFRESH-INTERVAL;VALUE=DURATION:PT1H
X-Robots-Tag:noindex
X-PUBLISHED-TTL:PT1H
BEGIN:VTIMEZONE
TZID:Europe/Berlin
BEGIN:DAYLIGHT
TZOFFSETFROM:+0100
TZOFFSETTO:+0200
TZNAME:CEST
DTSTART:20250330T010000
END:DAYLIGHT
BEGIN:STANDARD
TZOFFSETFROM:+0200
TZOFFSETTO:+0100
TZNAME:CET
DTSTART:20251026T010000
END:STANDARD
BEGIN:DAYLIGHT
TZOFFSETFROM:+0100
TZOFFSETTO:+0200
TZNAME:CEST
DTSTART:20260329T010000
END:DAYLIGHT
BEGIN:STANDARD
TZOFFSETFROM:+0200
TZOFFSETTO:+0100
TZNAME:CET
DTSTART:20261025T010000
END:STANDARD
BEGIN:DAYLIGHT
TZOFFSETFROM:+0100
TZOFFSETTO:+0200
TZNAME:CEST
DTSTART:20270328T010000
END:DAYLIGHT
BEGIN:STANDARD
TZOFFSETFROM:+0200
TZOFFSETTO:+0100
TZNAME:CET
DTSTART:20271031T010000
END:STANDARD
END:VTIMEZONE
BEGIN:VEVENT
DTSTART;TZID=Europe/Berlin:20260423T180000
DTEND;TZID=Europe/Berlin:20260423T200000
DTSTAMP:20260423T135003
CREATED:20260410T112509Z
LAST-MODIFIED:20260410T112509Z
UID:10078031-1776967200-1776974400@www.eintrittfrei-muenchen.de
SUMMARY:Ein Jahr nach der Bundestagswahl: Thesen zur aktuellen politischen Lage in Deutschland
DESCRIPTION:Knapp ein Jahr nach der Bundestagswahl werden auf dieser Veranstaltung Thesen zur aktuellen politischen Lage in Deutschland vorgetragen. Hierbei geht es darum\, die Politik der neuen Bundesregierung in wirtschafts- und sozialpolitischer Hinsicht zu analysieren. Dies vor dem Hintergrund der internationalen Lage (Kriege\, Aufrüstung) und der Entwicklung von Umweltzerstörung und Klimawandel einerseits und dem weltweiten Vorankommen des Neofaschismus andererseits. Am Ende steht die Frage\, was all das mit den Lohnabhängigen zu tun hat und wie die Gewerkschaften als deren Organisationen darauf reagieren (sollten).
URL:https://www.eintrittfrei-muenchen.de/veranstaltung/ein-jahr-nach-der-bundestagswahl-thesen-zur-aktuellen-politischen-lage-in-deutschland/
LOCATION:Aidshilfe e. V.\, Lindwurmstraße 71\, München
CATEGORIES:Bildung & Wissen,Gesellschaft,Mitmachen,Vorträge
ATTACH;FMTTYPE=image/jpeg:https://www.eintrittfrei-muenchen.de/wp-content/uploads/2026/04/Logo_MVHS_2011_aktuell-e1775820198784.jpg
END:VEVENT
BEGIN:VEVENT
DTSTART;TZID=Europe/Berlin:20260506T183000
DTEND;TZID=Europe/Berlin:20260506T200000
DTSTAMP:20260423T135003
CREATED:20260422T085624Z
LAST-MODIFIED:20260422T085624Z
UID:10078088-1778092200-1778097600@www.eintrittfrei-muenchen.de
SUMMARY:Vortrag: Bonn ist nicht Weimar\, Berlin auch nicht?
DESCRIPTION:Nicht erst nach der Bundestagswahl 2025 wird die aktuelle politische Lage in Deutschland häufig mit der Situation am Ende der Weimarer Republik vergleichen. Doch erleben wir derzeit wirklich „Weimarer Verhältnisse“? Welche Parallelen\, aber auch welche Unterschiede gibt es zwischen der Bundesrepublik der Gegenwart und der Weimarer Republik in den frühen 1930er Jahren? Und welche politischen\, rechtlichen und zivilgesellschaftlichen Lehren lassen sich aus dem Scheitern der ersten deutschen Demokratie ziehen? Aus historischer Perspektive blickt der Vortrag auf die Republik von Weimar – und auf die Herausforderungen der aktuellen Berliner Republik.
URL:https://www.eintrittfrei-muenchen.de/veranstaltung/vortrag-bonn-ist-nicht-weimar-berlin-auch-nicht/
LOCATION:Aidshilfe e. V.\, Lindwurmstraße 71\, München
CATEGORIES:Vorträge
END:VEVENT
BEGIN:VEVENT
DTSTART;TZID=Europe/Berlin:20260522T160000
DTEND;TZID=Europe/Berlin:20260522T180000
DTSTAMP:20260423T135003
CREATED:20260422T085641Z
LAST-MODIFIED:20260422T085641Z
UID:10078095-1779465600-1779472800@www.eintrittfrei-muenchen.de
SUMMARY:Führung: Kunst in Neuperlach
DESCRIPTION:Anlässlich der Fotoausstellung „Kunst in Perlach 2.0“ des „1. Fotoclubs Neuperlach“ im Kulturhaus Neuperlach machen wir einen Rundgang im Zentrum von Neuperlach. Wir begeben uns auf die Suche nach den fotografierten Kunstwerken vor Ort und erfahren mehr über deren Hintergründe. Während der Tour bleibt genügend Zeit\, sich über die einzigartige Geschichte des Stadtteils auszutauschen. Treffpunkt: Kulturbunt Neuperlach e.V.\, Albert-Schweitzer-Str. 62. Anmeldung empfohlen
URL:https://www.eintrittfrei-muenchen.de/veranstaltung/fuehrung-kunst-in-neuperlach/
LOCATION:Aidshilfe e. V.\, Lindwurmstraße 71\, München
CATEGORIES:Führung
END:VEVENT
BEGIN:VEVENT
DTSTART;TZID=Europe/Berlin:20260716T183000
DTEND;TZID=Europe/Berlin:20260716T200000
DTSTAMP:20260423T135003
CREATED:20260422T120819Z
LAST-MODIFIED:20260422T120819Z
UID:10078100-1784226600-1784232000@www.eintrittfrei-muenchen.de
SUMMARY:Mehr Zeit zum Leben\, Lieben\, Lachen - Über den Kampf um freie Zeit
DESCRIPTION:Dem Versprechen von weniger Arbeit und mehr Zeit für Erholung und Genuss wohnt ein utopisches Element inne: die Vorstellung eines Lebens ohne Mühsal und Plackerei. Kein Wunder also\, dass es gerade die Kämpfe um kürzere Arbeitszeiten\, für mehr Freizeit\, mehr Urlaub\, freie Wochenenden und eine möglichst selbstbestimmte Gestaltung der freien Zeit sind\, die die Massen besonders enthusiastisch auf die Straße treiben. Seit Entstehen der Arbeiterbewegung ist das Ringen um kürzere Arbeitszeiten zentraler Gegenstand von Arbeitskämpfen und gerade in den letzten Jahren erlebt der Kampf um freie Zeit ein Comeback. Dabei geht es auch um mehr Selbstbestimmung und flexible Arbeitszeitmodelle zugunsten der Lohnabhängigen.
URL:https://www.eintrittfrei-muenchen.de/veranstaltung/mehr-zeit-zum-leben-lieben-lachen-ueber-den-kampf-um-freie-zeit/
LOCATION:Aidshilfe e. V.\, Lindwurmstraße 71\, München
CATEGORIES:Bildung & Wissen,Gesellschaft
ATTACH;FMTTYPE=image/jpeg:https://www.eintrittfrei-muenchen.de/wp-content/uploads/2026/04/Logo_MVHS_2011_aktuell-7-e1776859694956.jpg
END:VEVENT
END:VCALENDAR