BEGIN:VCALENDAR
VERSION:2.0
PRODID:-//Eintritt.Frei Kalender - ECPv6.15.20//NONSGML v1.0//EN
CALSCALE:GREGORIAN
METHOD:PUBLISH
X-WR-CALNAME:Eintritt.Frei Kalender
X-ORIGINAL-URL:https://www.eintrittfrei-muenchen.de
X-WR-CALDESC:Veranstaltungen für Eintritt.Frei Kalender
REFRESH-INTERVAL;VALUE=DURATION:PT1H
X-Robots-Tag:noindex
X-PUBLISHED-TTL:PT1H
BEGIN:VTIMEZONE
TZID:Europe/Berlin
BEGIN:DAYLIGHT
TZOFFSETFROM:+0100
TZOFFSETTO:+0200
TZNAME:CEST
DTSTART:20250330T010000
END:DAYLIGHT
BEGIN:STANDARD
TZOFFSETFROM:+0200
TZOFFSETTO:+0100
TZNAME:CET
DTSTART:20251026T010000
END:STANDARD
BEGIN:DAYLIGHT
TZOFFSETFROM:+0100
TZOFFSETTO:+0200
TZNAME:CEST
DTSTART:20260329T010000
END:DAYLIGHT
BEGIN:STANDARD
TZOFFSETFROM:+0200
TZOFFSETTO:+0100
TZNAME:CET
DTSTART:20261025T010000
END:STANDARD
BEGIN:DAYLIGHT
TZOFFSETFROM:+0100
TZOFFSETTO:+0200
TZNAME:CEST
DTSTART:20270328T010000
END:DAYLIGHT
BEGIN:STANDARD
TZOFFSETFROM:+0200
TZOFFSETTO:+0100
TZNAME:CET
DTSTART:20271031T010000
END:STANDARD
END:VTIMEZONE
BEGIN:VEVENT
DTSTART;TZID=Europe/Berlin:20260428T080000
DTEND;TZID=Europe/Berlin:20260428T170000
DTSTAMP:20260425T205456
CREATED:20260415T103655Z
LAST-MODIFIED:20260424T094224Z
UID:10078052-1777363200-1777395600@www.eintrittfrei-muenchen.de
SUMMARY:LICHTBILDVORTRAG China: eine kulturelle und kulinarische Reise durch China\, die Städte Peking und Xian mit der weltbekannten Terrakotta Armee
DESCRIPTION:Wir besuchen die heutige Hauptstadt Peking\, besichtigen seine wichtigen Sehenswürdigkeiten wie die Verbotene Stadt und den Himmelstempel und machen einen kurzen Abstecher zur Chinesischen Mauer.\nAber auch Xian\, die ehemalige Hauptstadt des alten chinesischen Reichs hat einiges zu bieten. Sie war Ausgangspunkt der Seidenstraße und beherbergt die weltberühmte tönerne Terrakotta Armee\, die das Grab des ersten Kaisers von China bewacht.\nDanach lassen wir uns in Xians Gourmet-Straße kulinarisch verwöhnen. \nLichtbildervortrag von Baoshu Zhang und Susanne Moog
URL:https://www.eintrittfrei-muenchen.de/veranstaltung/lichtbildvortrag-china-eine-kulturelle-und-kulinarische-reise-durch-china-die-staedte-peking-und-xian-mit-der-weltbekannten-terrakotta-armee/
LOCATION:Kulturzentrum 2411\, Blogdistr. 3\, München\, Bayern\, 80933\, Deutschland
CATEGORIES:Vorträge
ATTACH;FMTTYPE=image/jpeg:https://www.eintrittfrei-muenchen.de/wp-content/uploads/2026/04/die-verbotene-Stadt-4155-Bildrecht-S-Moog-scaled-e1776249402762.jpg
GEO:48.2132767;11.5563264
X-APPLE-STRUCTURED-LOCATION;VALUE=URI;X-ADDRESS=Kulturzentrum 2411 Blogdistr. 3 München Bayern 80933 Deutschland;X-APPLE-RADIUS=500;X-TITLE=Blogdistr. 3:geo:11.5563264,48.2132767
END:VEVENT
BEGIN:VEVENT
DTSTART;TZID=Europe/Berlin:20260428T190000
DTEND;TZID=Europe/Berlin:20260428T203000
DTSTAMP:20260425T205456
CREATED:20260415T103655Z
LAST-MODIFIED:20260424T094224Z
UID:10078053-1777402800-1777408200@www.eintrittfrei-muenchen.de
SUMMARY:LICHTBILDVORTRAG China: eine kulturelle und kulinarische Reise durch China\, die Städte Peking und Xian mit der weltbekannten Terrakotta Armee
DESCRIPTION:Wir besuchen die heutige Hauptstadt Peking\, besichtigen seine wichtigen Sehenswürdigkeiten wie die Verbotene Stadt und den Himmelstempel und machen einen kurzen Abstecher zur Chinesischen Mauer.\nAber auch Xian\, die ehemalige Hauptstadt des alten chinesischen Reichs hat einiges zu bieten. Sie war Ausgangspunkt der Seidenstraße und beherbergt die weltberühmte tönerne Terrakotta Armee\, die das Grab des ersten Kaisers von China bewacht.\nDanach lassen wir uns in Xians Gourmet-Straße kulinarisch verwöhnen. \nLichtbildervortrag von Baoshu Zhang und Susanne Moog
URL:https://www.eintrittfrei-muenchen.de/veranstaltung/lichtbildvortrag-china-eine-kulturelle-und-kulinarische-reise-durch-china-die-staedte-peking-und-xian-mit-der-weltbekannten-terrakotta-armee/
LOCATION:Kulturzentrum 2411\, Blogdistr. 3\, München\, Bayern\, 80933\, Deutschland
CATEGORIES:Vorträge
ATTACH;FMTTYPE=image/jpeg:https://www.eintrittfrei-muenchen.de/wp-content/uploads/2026/04/die-verbotene-Stadt-4155-Bildrecht-S-Moog-scaled-e1776249402762.jpg
GEO:48.2132767;11.5563264
X-APPLE-STRUCTURED-LOCATION;VALUE=URI;X-ADDRESS=Kulturzentrum 2411 Blogdistr. 3 München Bayern 80933 Deutschland;X-APPLE-RADIUS=500;X-TITLE=Blogdistr. 3:geo:11.5563264,48.2132767
END:VEVENT
END:VCALENDAR